BEGIN:VCALENDAR
VERSION:2.0
PRODID:-//IG Unterm Knochen e.V. - ECPv6.15.14//NONSGML v1.0//EN
CALSCALE:GREGORIAN
METHOD:PUBLISH
X-ORIGINAL-URL:https://www.ig-unterm-knochen.de
X-WR-CALDESC:Veranstaltungen für IG Unterm Knochen e.V.
REFRESH-INTERVAL;VALUE=DURATION:PT1H
X-Robots-Tag:noindex
X-PUBLISHED-TTL:PT1H
BEGIN:VTIMEZONE
TZID:Europe/Berlin
BEGIN:DAYLIGHT
TZOFFSETFROM:+0100
TZOFFSETTO:+0200
TZNAME:CEST
DTSTART:20240331T010000
END:DAYLIGHT
BEGIN:STANDARD
TZOFFSETFROM:+0200
TZOFFSETTO:+0100
TZNAME:CET
DTSTART:20241027T010000
END:STANDARD
BEGIN:DAYLIGHT
TZOFFSETFROM:+0100
TZOFFSETTO:+0200
TZNAME:CEST
DTSTART:20250330T010000
END:DAYLIGHT
BEGIN:STANDARD
TZOFFSETFROM:+0200
TZOFFSETTO:+0100
TZNAME:CET
DTSTART:20251026T010000
END:STANDARD
BEGIN:DAYLIGHT
TZOFFSETFROM:+0100
TZOFFSETTO:+0200
TZNAME:CEST
DTSTART:20260329T010000
END:DAYLIGHT
BEGIN:STANDARD
TZOFFSETFROM:+0200
TZOFFSETTO:+0100
TZNAME:CET
DTSTART:20261025T010000
END:STANDARD
END:VTIMEZONE
BEGIN:VEVENT
DTSTART;TZID=Europe/Berlin:20250602T190000
DTEND;TZID=Europe/Berlin:20250603T013000
DTSTAMP:20260423T222824
CREATED:20250225T215856Z
LAST-MODIFIED:20250225T220337Z
UID:227-1748890800-1748914200@www.ig-unterm-knochen.de
SUMMARY:Waldfegen
DESCRIPTION:
URL:https://www.ig-unterm-knochen.de/event/waldfegen/
LOCATION:Wäldchen\, Kantstraße 9a\, Sundern\, NRW\, 59846\, Germany
ATTACH;FMTTYPE=image/png:https://www.ig-unterm-knochen.de/wp-content/uploads/2025/02/3e34a9014a78f5e76c8bf5ff481c6a4bb71d063f2bdb787a21bf26c1f08a82c4.png
END:VEVENT
END:VCALENDAR