BEGIN:VCALENDAR
VERSION:2.0
PRODID:-//IG Unterm Knochen e.V. - ECPv6.15.14//NONSGML v1.0//EN
CALSCALE:GREGORIAN
METHOD:PUBLISH
X-WR-CALNAME:IG Unterm Knochen e.V.
X-ORIGINAL-URL:https://www.ig-unterm-knochen.de
X-WR-CALDESC:Veranstaltungen für IG Unterm Knochen e.V.
REFRESH-INTERVAL;VALUE=DURATION:PT1H
X-Robots-Tag:noindex
X-PUBLISHED-TTL:PT1H
BEGIN:VTIMEZONE
TZID:Europe/Berlin
BEGIN:DAYLIGHT
TZOFFSETFROM:+0100
TZOFFSETTO:+0200
TZNAME:CEST
DTSTART:20240331T010000
END:DAYLIGHT
BEGIN:STANDARD
TZOFFSETFROM:+0200
TZOFFSETTO:+0100
TZNAME:CET
DTSTART:20241027T010000
END:STANDARD
BEGIN:DAYLIGHT
TZOFFSETFROM:+0100
TZOFFSETTO:+0200
TZNAME:CEST
DTSTART:20250330T010000
END:DAYLIGHT
BEGIN:STANDARD
TZOFFSETFROM:+0200
TZOFFSETTO:+0100
TZNAME:CET
DTSTART:20251026T010000
END:STANDARD
BEGIN:DAYLIGHT
TZOFFSETFROM:+0100
TZOFFSETTO:+0200
TZNAME:CEST
DTSTART:20260329T010000
END:DAYLIGHT
BEGIN:STANDARD
TZOFFSETFROM:+0200
TZOFFSETTO:+0100
TZNAME:CET
DTSTART:20261025T010000
END:STANDARD
END:VTIMEZONE
BEGIN:VEVENT
DTSTART;TZID=Europe/Berlin:20251002T180000
DTEND;TZID=Europe/Berlin:20251002T233000
DTSTAMP:20260423T114915
CREATED:20250227T161302Z
LAST-MODIFIED:20250830T071100Z
UID:266-1759428000-1759447800@www.ig-unterm-knochen.de
SUMMARY:🌿 Waldmesse im Wäldchen – Besinnlicher Abend in der Natur 🙏
DESCRIPTION:Am 02. Oktober laden wir euch herzlich zur Waldmesse ins Wäldchen ein. Gemeinsam feiern wir ab 18:00 Uhr eine besinnliche Messe unter freiem Himmel\, umgeben von der ruhigen Atmosphäre des Waldes. 🌲✨ \n📅 Datum: 02. Oktober \n🕕 Beginn: 18:00 Uhr \nNehmt euch einen Moment der Einkehr\, genießt die besondere Stimmung und lasst den Alltag für einen Abend hinter euch. Im Anschluss an die Messe laden wir zum gemütlichen Beisammensein ein. \n🙏 Kommt vorbei & erlebt die besondere Atmosphäre! 🌿
URL:https://www.ig-unterm-knochen.de/event/%f0%9f%8c%bf-waldmesse-im-waeldchen-besinnlicher-abend-in-der-natur-%f0%9f%99%8f/
LOCATION:Wäldchen\, Kantstraße 9a\, Sundern\, NRW\, 59846\, Germany
ATTACH;FMTTYPE=image/jpeg:https://www.ig-unterm-knochen.de/wp-content/uploads/2025/02/a9f01d0da5147291ee2c90f7802dd2202ec42d1250351601564fbee9bf8ee53d.jpg
END:VEVENT
END:VCALENDAR