BEGIN:VCALENDAR
VERSION:2.0
PRODID:-//IG Unterm Knochen e.V. - ECPv6.15.14//NONSGML v1.0//EN
CALSCALE:GREGORIAN
METHOD:PUBLISH
X-ORIGINAL-URL:https://www.ig-unterm-knochen.de
X-WR-CALDESC:Veranstaltungen für IG Unterm Knochen e.V.
REFRESH-INTERVAL;VALUE=DURATION:PT1H
X-Robots-Tag:noindex
X-PUBLISHED-TTL:PT1H
BEGIN:VTIMEZONE
TZID:Europe/Berlin
BEGIN:DAYLIGHT
TZOFFSETFROM:+0100
TZOFFSETTO:+0200
TZNAME:CEST
DTSTART:20240331T010000
END:DAYLIGHT
BEGIN:STANDARD
TZOFFSETFROM:+0200
TZOFFSETTO:+0100
TZNAME:CET
DTSTART:20241027T010000
END:STANDARD
BEGIN:DAYLIGHT
TZOFFSETFROM:+0100
TZOFFSETTO:+0200
TZNAME:CEST
DTSTART:20250330T010000
END:DAYLIGHT
BEGIN:STANDARD
TZOFFSETFROM:+0200
TZOFFSETTO:+0100
TZNAME:CET
DTSTART:20251026T010000
END:STANDARD
BEGIN:DAYLIGHT
TZOFFSETFROM:+0100
TZOFFSETTO:+0200
TZNAME:CEST
DTSTART:20260329T010000
END:DAYLIGHT
BEGIN:STANDARD
TZOFFSETFROM:+0200
TZOFFSETTO:+0100
TZNAME:CET
DTSTART:20261025T010000
END:STANDARD
END:VTIMEZONE
BEGIN:VEVENT
DTSTART;TZID=Europe/Berlin:20250418T223000
DTEND;TZID=Europe/Berlin:20250419T013000
DTSTAMP:20260424T000216
CREATED:20250225T211613Z
LAST-MODIFIED:20250225T213604Z
UID:211-1745015400-1745026200@www.ig-unterm-knochen.de
SUMMARY:Kreuzaufstellen an Karfreitag – Gemeinsam ein Zeichen setzen
DESCRIPTION:Liebe Mitglieder und Freunde der IG Unterm Knochen e.V.\, \nauch in diesem Jahr wollen wir an Karfreitag unser traditionelles Kreuz aufstellen und damit ein sichtbares Zeichen des Glaubens und der Gemeinschaft setzen. Gemeinsam tragen wir das Kreuz an seinen Platz\, richten es auf und halten einen Moment inne. \nNach dem Aufstellen laden wir euch ein\, noch etwas zusammenzubleiben\, ins Gespräch zu kommen und die Gemeinschaft zu pflegen. Für eine kleine Stärkung ist gesorgt. \nWir freuen uns über jede helfende Hand und auf ein besinnliches Miteinander. \nEure IG Unterm Knochen e.V.
URL:https://www.ig-unterm-knochen.de/event/kreuzaufstellen-an-karfreitag-gemeinsam-ein-zeichen-setzen/
LOCATION:Wäldchen\, Kantstraße 9a\, Sundern\, NRW\, 59846\, Germany
ATTACH;FMTTYPE=image/webp:https://www.ig-unterm-knochen.de/wp-content/uploads/2025/02/image-1.webp
END:VEVENT
BEGIN:VEVENT
DTSTART;TZID=Europe/Berlin:20250420T220000
DTEND;TZID=Europe/Berlin:20250421T013000
DTSTAMP:20260424T000216
CREATED:20250225T221146Z
LAST-MODIFIED:20250226T104105Z
UID:234-1745186400-1745199000@www.ig-unterm-knochen.de
SUMMARY:Osterfeuer 2025 – Gemeinsam in den Frühling starten! 🔥🌿
DESCRIPTION:Liebe Mitglieder und Freunde der IG Unterm Knochen e.V.\, \nauch in diesem Jahr laden wir euch herzlich zu unserem traditionellen Osterfeuer ein! Lasst uns gemeinsam den Frühling begrüßen\, das wärmende Feuer genießen und einen geselligen Abend miteinander verbringen. \nAblauf: \n19:00 Uhr Treffen der Kommunion-Kinder in der Kirche Sankt Johannes \n19:30 Uhr Fackelzug der Kommunion-Kinder zum Osterfeuer \n20:00 Uhr Anzünden Osterfeuer \n🔥 Freut euch auf: \n✅ Ein großes\, wärmendes Osterfeuer \n✅ Kühle Getränke 🍻 \n✅ Geselliges Beisammensein in gemütlicher Atmosphäre \n✅ Spaß für Groß & Klein \nKommt vorbei\, bringt Familie und Freunde mit und erlebt einen stimmungsvollen Abend in der Natur. Wir freuen uns auf euch! \nEure IG Unterm Knochen e.V. 😊🔥
URL:https://www.ig-unterm-knochen.de/event/osterfeuer-2025/
LOCATION:Vossbauer’s Scheune\, Bergstraße\, Sundern\, NRW\, 59846\, Germany
ATTACH;FMTTYPE=image/png:https://www.ig-unterm-knochen.de/wp-content/uploads/2025/02/f9e4df5881dfab52fe73eda669ea411e5dde9938f4ca89618614b08464bed05f.png
END:VEVENT
END:VCALENDAR